BEGIN:VCALENDAR
VERSION:2.0
PRODID:-//Unity Church of Sun Lakes - ECPv6.15.17//NONSGML v1.0//EN
CALSCALE:GREGORIAN
METHOD:PUBLISH
X-WR-CALNAME:Unity Church of Sun Lakes
X-ORIGINAL-URL:https://unityofsunlakes.org
X-WR-CALDESC:Events for Unity Church of Sun Lakes
REFRESH-INTERVAL;VALUE=DURATION:PT1H
X-Robots-Tag:noindex
X-PUBLISHED-TTL:PT1H
BEGIN:VTIMEZONE
TZID:America/Phoenix
BEGIN:STANDARD
TZOFFSETFROM:-0700
TZOFFSETTO:-0700
TZNAME:MST
DTSTART:20230101T000000
END:STANDARD
END:VTIMEZONE
BEGIN:VEVENT
DTSTART;TZID=America/Phoenix:20241201T100000
DTEND;TZID=America/Phoenix:20241201T110000
DTSTAMP:20260422T084126
CREATED:20241129T190308Z
LAST-MODIFIED:20241129T190308Z
UID:1461-1733047200-1733050800@unityofsunlakes.org
SUMMARY:Sunday Service - Will You Come Home?
DESCRIPTION:With Rev. Jeanne MacLaughlin\, Music with Annie Moscow \nAs we prepare our hearts to re-experience the birth of the son of God Self within\, we will come home to our authentic self\, our center. Today\, you will be invited to come home to your heart in a profound way.
URL:https://unityofsunlakes.org/event/sunday-service-will-you-come-home/
LOCATION:Unity of Sun Lakes\, 25601 S. Sun Lakes Blvd.\, Sun Lakes\, 85248
CATEGORIES:Service
END:VEVENT
BEGIN:VEVENT
DTSTART;TZID=America/Phoenix:20241208T100000
DTEND;TZID=America/Phoenix:20241208T110000
DTSTAMP:20260422T084126
CREATED:20241129T190445Z
LAST-MODIFIED:20241129T190445Z
UID:1463-1733652000-1733655600@unityofsunlakes.org
SUMMARY:Sunday Service - The Gift of Peace in My Heart
DESCRIPTION:With Rev. Jeanne MacLaughlin\, Music with Barb Horton \nWhenever you deeply accept this moment as it is – no matter what form it takes – you are still\, you are at peace. -Eckhart Tolle \nWhen authenticity is restored\, putting God first in our lives\, Peace is the gift that keeps on giving.
URL:https://unityofsunlakes.org/event/sunday-service-the-gift-of-peace-in-my-heart/
LOCATION:Unity of Sun Lakes\, 25601 S. Sun Lakes Blvd.\, Sun Lakes\, 85248
CATEGORIES:Service
END:VEVENT
BEGIN:VEVENT
DTSTART;TZID=America/Phoenix:20241215T100000
DTEND;TZID=America/Phoenix:20241215T110000
DTSTAMP:20260422T084126
CREATED:20241129T190556Z
LAST-MODIFIED:20241129T190556Z
UID:1465-1734256800-1734260400@unityofsunlakes.org
SUMMARY:Sunday Service - The Power of Forgiveness
DESCRIPTION:With Mark Wenz\, Music with Jennifer Sheets \nForgiveness empowers both the forgiver and the person being forgiven. Mark will use quotes from religious thinkers and real-life stories to illustrate his theme.
URL:https://unityofsunlakes.org/event/sunday-service-the-power-of-forgiveness/
LOCATION:Unity of Sun Lakes\, 25601 S. Sun Lakes Blvd.\, Sun Lakes\, 85248
CATEGORIES:Service
END:VEVENT
BEGIN:VEVENT
DTSTART;TZID=America/Phoenix:20241222T100000
DTEND;TZID=America/Phoenix:20241222T110000
DTSTAMP:20260422T084126
CREATED:20241129T190722Z
LAST-MODIFIED:20241129T190722Z
UID:1467-1734861600-1734865200@unityofsunlakes.org
SUMMARY:Sunday Service - The Greatest Gift - The Birth of the Christ Within!
DESCRIPTION:With Rev. Jeanne MacLaughlin\, Music with The JaJa’s & Brian Palmerino \nThis service will be full of magic and wonder! Music and Metaphysical interpretations of the Bible as it relates to the Christmas story.
URL:https://unityofsunlakes.org/event/sunday-service-the-greatest-gift-the-birth-of-the-christ-within/
LOCATION:Unity of Sun Lakes\, 25601 S. Sun Lakes Blvd.\, Sun Lakes\, 85248
CATEGORIES:Service
END:VEVENT
BEGIN:VEVENT
DTSTART;TZID=America/Phoenix:20241229T100000
DTEND;TZID=America/Phoenix:20241229T110000
DTSTAMP:20260422T084126
CREATED:20241129T190833Z
LAST-MODIFIED:20241227T155751Z
UID:1469-1735466400-1735470000@unityofsunlakes.org
SUMMARY:Sunday Service - A Releasing Ceremony
DESCRIPTION:With Rev. Jeanne MacLaughlin\, music with Amy MacLaughlin \nChrist has been born anew in your inner awareness and so we take this opportunity to clear out anything unworthy of the expression of God that you are. On this day we shall have an opportunity to release that which no longer serves us.
URL:https://unityofsunlakes.org/event/sunday-service-burning-bowl-ceremony/
LOCATION:Unity of Sun Lakes\, 25601 S. Sun Lakes Blvd.\, Sun Lakes\, 85248
CATEGORIES:Service
END:VEVENT
END:VCALENDAR