BEGIN:VCALENDAR
VERSION:2.0
PRODID:-//Unity Church of Sun Lakes - ECPv6.15.17//NONSGML v1.0//EN
CALSCALE:GREGORIAN
METHOD:PUBLISH
X-ORIGINAL-URL:https://unityofsunlakes.org
X-WR-CALDESC:Events for Unity Church of Sun Lakes
REFRESH-INTERVAL;VALUE=DURATION:PT1H
X-Robots-Tag:noindex
X-PUBLISHED-TTL:PT1H
BEGIN:VTIMEZONE
TZID:America/Phoenix
BEGIN:STANDARD
TZOFFSETFROM:-0700
TZOFFSETTO:-0700
TZNAME:MST
DTSTART:20230101T000000
END:STANDARD
END:VTIMEZONE
BEGIN:VEVENT
DTSTART;TZID=America/Phoenix:20240908T100000
DTEND;TZID=America/Phoenix:20240908T110000
DTSTAMP:20260423T092242
CREATED:20240824T201032Z
LAST-MODIFIED:20240824T201519Z
UID:1368-1725789600-1725793200@unityofsunlakes.org
SUMMARY:Sunday Service: Are You a Go-Getter or a Go-Giver?
DESCRIPTION:Rev. Jeanne MacLaughlin \nMusic by Cerise Patron  \nWord of the Day – Grace \nThe Go-Giver\, a delightful parable by Bob Burg and John David Mann\, sets forth five Laws of Stratospheric Success based on the foundational principle of living\, loving and laughing abundantly.  Today we begin to unwrap this foundational principle and then dig deeper into it each week. 
URL:https://unityofsunlakes.org/event/sunday-service-are-you-a-go-getter-or-a-go-giver/
LOCATION:Unity of Sun Lakes\, 25601 S. Sun Lakes Blvd.\, Sun Lakes\, 85248
CATEGORIES:Service
END:VEVENT
BEGIN:VEVENT
DTSTART;TZID=America/Phoenix:20240915T100000
DTEND;TZID=America/Phoenix:20240915T110000
DTSTAMP:20260423T092242
CREATED:20240824T201143Z
LAST-MODIFIED:20240824T201143Z
UID:1370-1726394400-1726398000@unityofsunlakes.org
SUMMARY:Sunday Service: What Do You Bring to the Table?
DESCRIPTION:Rev. Jeanne MacLaughlin \nMusic by the JaJa’s \nWord of the Day – Blessed \nAccording to The Go-Giver\, great fortunes in the world have been created by men and women who had a greater passion for what they were giving – their products\, their services or their ideas – than for what they were getting.  Today we look at the first two Laws of Stratospheric Success by asking “what do you bring to the table?” 
URL:https://unityofsunlakes.org/event/sunday-service-what-do-you-bring-to-the-table/
LOCATION:Unity of Sun Lakes\, 25601 S. Sun Lakes Blvd.\, Sun Lakes\, 85248
CATEGORIES:Service
END:VEVENT
BEGIN:VEVENT
DTSTART;TZID=America/Phoenix:20240922T100000
DTEND;TZID=America/Phoenix:20240922T110000
DTSTAMP:20260423T092242
CREATED:20240824T201249Z
LAST-MODIFIED:20240824T201249Z
UID:1372-1726999200-1727002800@unityofsunlakes.org
SUMMARY:Sunday Service: Enlightened Self Interest
DESCRIPTION:Rev Jeanne MacLaughlin \nMusic by Jennifer Sheets \nWord of the Day – Healing \nThe Third and Fourth Laws of Stratospheric Success invite you into “enlightened self interest” by realizing that when you genuinely care about meeting the needs of others\, then your interests will be taken care of as well – always and in all ways!
URL:https://unityofsunlakes.org/event/sunday-service-enlightened-self-interest/
LOCATION:Unity of Sun Lakes\, 25601 S. Sun Lakes Blvd.\, Sun Lakes\, 85248
CATEGORIES:Service
END:VEVENT
BEGIN:VEVENT
DTSTART;TZID=America/Phoenix:20240929T100000
DTEND;TZID=America/Phoenix:20240929T110000
DTSTAMP:20260423T092242
CREATED:20240824T201356Z
LAST-MODIFIED:20240824T201356Z
UID:1374-1727604000-1727607600@unityofsunlakes.org
SUMMARY:Sunday Service: The Final\, Ultimate Key to Living\, Loving and Laughing Abundantly
DESCRIPTION:Rev Jeanne MacLaughlin \nMusic by the JaJa’s with Brian Palmerino \nWord of the Day – Comforted \nThe Fifth Law of Stratospheric Success according to The Go-Giver may come as a surprise.  It may even seem inconsistent with all we have discussed this month.  But\, then again\, spiritual truths are often tucked carefully inside paradoxes.  Be sure to be with us this Sunday to learn the final key to living\, loving and laughing abundantly! 
URL:https://unityofsunlakes.org/event/sunday-service-the-final-ultimate-key-to-living-loving-and-laughing-abundantly/
LOCATION:Unity of Sun Lakes\, 25601 S. Sun Lakes Blvd.\, Sun Lakes\, 85248
CATEGORIES:Service
END:VEVENT
END:VCALENDAR