BEGIN:VCALENDAR
VERSION:2.0
PRODID:-//Unity Church of Sun Lakes - ECPv6.15.17//NONSGML v1.0//EN
CALSCALE:GREGORIAN
METHOD:PUBLISH
X-WR-CALNAME:Unity Church of Sun Lakes
X-ORIGINAL-URL:https://unityofsunlakes.org
X-WR-CALDESC:Events for Unity Church of Sun Lakes
REFRESH-INTERVAL;VALUE=DURATION:PT1H
X-Robots-Tag:noindex
X-PUBLISHED-TTL:PT1H
BEGIN:VTIMEZONE
TZID:America/Phoenix
BEGIN:STANDARD
TZOFFSETFROM:-0700
TZOFFSETTO:-0700
TZNAME:MST
DTSTART:20230101T000000
END:STANDARD
END:VTIMEZONE
BEGIN:VEVENT
DTSTART;TZID=America/Phoenix:20240821T130000
DTEND;TZID=America/Phoenix:20240821T160000
DTSTAMP:20260423T144012
CREATED:20240715T170610Z
LAST-MODIFIED:20240715T170610Z
UID:1361-1724245200-1724256000@unityofsunlakes.org
SUMMARY:Volunteer for Unity Church of Sun Lakes
DESCRIPTION:Become a Unity Church of Sun Lakes Sunday service platform volunteer. \n\nPractice reading the Daily Word in front of a friendly\, non-judgmental environment.\nUse the mic\, so you get used to what feels best for you.\nExplore the steps for a heartfelt Opening Prayer and Meditation.\n\nWith Rev. Jeanne MacLaughlin.
URL:https://unityofsunlakes.org/event/volunteer-for-unity-church-of-sun-lakes/
LOCATION:Unity of Sun Lakes – Mirror Room\, 25601 S. Sun Lakes Blvd.\, Mirror Room\, Sun Lakes\, AZ\, 85248\, United States
CATEGORIES:Class
END:VEVENT
END:VCALENDAR