BEGIN:VCALENDAR
VERSION:2.0
PRODID:-//Unity Church of Sun Lakes - ECPv6.15.17//NONSGML v1.0//EN
CALSCALE:GREGORIAN
METHOD:PUBLISH
X-WR-CALNAME:Unity Church of Sun Lakes
X-ORIGINAL-URL:https://unityofsunlakes.org
X-WR-CALDESC:Events for Unity Church of Sun Lakes
REFRESH-INTERVAL;VALUE=DURATION:PT1H
X-Robots-Tag:noindex
X-PUBLISHED-TTL:PT1H
BEGIN:VTIMEZONE
TZID:America/Phoenix
BEGIN:STANDARD
TZOFFSETFROM:-0700
TZOFFSETTO:-0700
TZNAME:MST
DTSTART:20220101T000000
END:STANDARD
END:VTIMEZONE
BEGIN:VEVENT
DTSTART;TZID=America/Phoenix:20230324T093000
DTEND;TZID=America/Phoenix:20230324T123000
DTSTAMP:20260425T200643
CREATED:20230228T230111Z
LAST-MODIFIED:20230324T183924Z
UID:733-1679650200-1679661000@unityofsunlakes.org
SUMMARY:Bashas Art Gallery - CANCELLED
DESCRIPTION:CANCELLED.\nNo fee for the museum.  We will stay as long as we want then decide to go out to lunch or go back to the Sun Lakes.  This will be a flexible outing. \n 
URL:https://unityofsunlakes.org/event/bashas-art-gallery/
LOCATION:Bashas’ Art Gallery\, 22402 S. Basha Road\, Chandler\, AZ\, 85248
CATEGORIES:Gathering
END:VEVENT
BEGIN:VEVENT
DTSTART;TZID=America/Phoenix:20230228T183000
DTEND;TZID=America/Phoenix:20230228T200000
DTSTAMP:20260425T200643
CREATED:20230224T215507Z
LAST-MODIFIED:20230228T230626Z
UID:705-1677609000-1677614400@unityofsunlakes.org
SUMMARY:Prosperity Class
DESCRIPTION:EVERY TUESDAY THROUGH APRIL 18. \nJoin Dennis Hubert\, LUT for a deep dive into Unity’s principles of abundance and prosperity. This life-altering course will show us how remove the blocks we’ve created to our prosperity and teach us to live in the flow of God’s infinite supply. \nOnline Class (Zoom) \nRegister here: dennisalanhubert@gmail.com \n$75 if you’re taking it for credit\, plus the fee you’ll need to pay UWSI to register for credit.\n$60 to audit\, i.e.\, read\, listen and participate with no homework required
URL:https://unityofsunlakes.org/event/prosperity-class/
LOCATION:Zoom
CATEGORIES:Class
END:VEVENT
END:VCALENDAR