BEGIN:VCALENDAR
VERSION:2.0
PRODID:-//Unity Church of Sun Lakes - ECPv6.15.17//NONSGML v1.0//EN
CALSCALE:GREGORIAN
METHOD:PUBLISH
X-WR-CALNAME:Unity Church of Sun Lakes
X-ORIGINAL-URL:https://unityofsunlakes.org
X-WR-CALDESC:Events for Unity Church of Sun Lakes
REFRESH-INTERVAL;VALUE=DURATION:PT1H
X-Robots-Tag:noindex
X-PUBLISHED-TTL:PT1H
BEGIN:VTIMEZONE
TZID:America/Phoenix
BEGIN:STANDARD
TZOFFSETFROM:-0700
TZOFFSETTO:-0700
TZNAME:MST
DTSTART:20240101T000000
END:STANDARD
END:VTIMEZONE
BEGIN:VEVENT
DTSTART;TZID=America/Phoenix:20250615T100000
DTEND;TZID=America/Phoenix:20250615T110000
DTSTAMP:20260420T033729
CREATED:20250528T214004Z
LAST-MODIFIED:20250609T184929Z
UID:1686-1749981600-1749985200@unityofsunlakes.org
SUMMARY:Sunday Service: I AM free\, I AM unlimited!
DESCRIPTION:With guest speaker\, Erika Bowman \nMusic with Jennifer Sheets \nHave you ever struggled with spiritual amnesia or needed a gentle reminder of your TRUE Divine Nature\, limitless potential\, and possibilities? Well\, let’s liberate ourselves from the invisible chains holding us back from a more fulfilling life.
URL:https://unityofsunlakes.org/event/sunday-service-fathers-day/
CATEGORIES:Service
END:VEVENT
END:VCALENDAR