BEGIN:VCALENDAR
VERSION:2.0
PRODID:-//Unity Church of Sun Lakes - ECPv6.15.17//NONSGML v1.0//EN
CALSCALE:GREGORIAN
METHOD:PUBLISH
X-WR-CALNAME:Unity Church of Sun Lakes
X-ORIGINAL-URL:https://unityofsunlakes.org
X-WR-CALDESC:Events for Unity Church of Sun Lakes
REFRESH-INTERVAL;VALUE=DURATION:PT1H
X-Robots-Tag:noindex
X-PUBLISHED-TTL:PT1H
BEGIN:VTIMEZONE
TZID:America/Phoenix
BEGIN:STANDARD
TZOFFSETFROM:-0700
TZOFFSETTO:-0700
TZNAME:MST
DTSTART:20240101T000000
END:STANDARD
END:VTIMEZONE
BEGIN:VEVENT
DTSTART;TZID=America/Phoenix:20250427T100000
DTEND;TZID=America/Phoenix:20250427T110000
DTSTAMP:20260420T225804
CREATED:20250423T173725Z
LAST-MODIFIED:20250423T173725Z
UID:1638-1745748000-1745751600@unityofsunlakes.org
SUMMARY:Sunday Service: Trust to Transform
DESCRIPTION:With Rev. Jeanne MacLaughlin \nMusic with Brian Palmerino and Barb Horton \nTrusting the Law of Good — Trusting Divine Right Action — Trusting the Resurrection Principle – Trusting God.  We must trust if we are to follow Our Way Shower Jesus’ example and rise to a transcendent way of being.
URL:https://unityofsunlakes.org/event/sunday-service-trust-to-transform/
LOCATION:Unity of Sun Lakes\, 25601 S. Sun Lakes Blvd.\, Sun Lakes\, 85248
CATEGORIES:Service
END:VEVENT
END:VCALENDAR