BEGIN:VCALENDAR
VERSION:2.0
PRODID:-//Unity Church of Sun Lakes - ECPv6.15.17//NONSGML v1.0//EN
CALSCALE:GREGORIAN
METHOD:PUBLISH
X-ORIGINAL-URL:https://unityofsunlakes.org
X-WR-CALDESC:Events for Unity Church of Sun Lakes
REFRESH-INTERVAL;VALUE=DURATION:PT1H
X-Robots-Tag:noindex
X-PUBLISHED-TTL:PT1H
BEGIN:VTIMEZONE
TZID:America/Phoenix
BEGIN:STANDARD
TZOFFSETFROM:-0700
TZOFFSETTO:-0700
TZNAME:MST
DTSTART:20240101T000000
END:STANDARD
END:VTIMEZONE
BEGIN:VEVENT
DTSTART;TZID=America/Phoenix:20250413T100000
DTEND;TZID=America/Phoenix:20250413T110000
DTSTAMP:20260420T232227
CREATED:20250401T045128Z
LAST-MODIFIED:20250401T045305Z
UID:1614-1744538400-1744542000@unityofsunlakes.org
SUMMARY:Sunday Service: Palm Sunday
DESCRIPTION:With Rev. Jeanne MacLaughlin \nMusic with The JaJa’s
URL:https://unityofsunlakes.org/event/sunday-service-palm-sunday/
LOCATION:Unity of Sun Lakes\, 25601 S. Sun Lakes Blvd.\, Sun Lakes\, 85248
CATEGORIES:Service
END:VEVENT
END:VCALENDAR