BEGIN:VCALENDAR
VERSION:2.0
PRODID:-//Unity Church of Sun Lakes - ECPv6.15.17//NONSGML v1.0//EN
CALSCALE:GREGORIAN
METHOD:PUBLISH
X-ORIGINAL-URL:https://unityofsunlakes.org
X-WR-CALDESC:Events for Unity Church of Sun Lakes
REFRESH-INTERVAL;VALUE=DURATION:PT1H
X-Robots-Tag:noindex
X-PUBLISHED-TTL:PT1H
BEGIN:VTIMEZONE
TZID:America/Phoenix
BEGIN:STANDARD
TZOFFSETFROM:-0700
TZOFFSETTO:-0700
TZNAME:MST
DTSTART:20240101T000000
END:STANDARD
END:VTIMEZONE
BEGIN:VEVENT
DTSTART;TZID=America/Phoenix:20250330T080000
DTEND;TZID=America/Phoenix:20250330T170000
DTSTAMP:20260421T110103
CREATED:20250227T020921Z
LAST-MODIFIED:20250227T020921Z
UID:1584-1743321600-1743354000@unityofsunlakes.org
SUMMARY:Sunday Service: Living in Alignment: Authenticity and Joyful Expression
DESCRIPTION:We will explore what it means to live authentically and how aligning with one’s true self leads to a more joyful life. This discussion will include sharing personal experiences and insights on embracing one’s uniqueness. \nMessage with Rev. Jeanne MacLaughlin \nMusic with Cerise Patron
URL:https://unityofsunlakes.org/event/sunday-service-living-in-alignment-authenticity-and-joyful-expression/
LOCATION:Unity of Sun Lakes\, 25601 S. Sun Lakes Blvd.\, Sun Lakes\, 85248
CATEGORIES:Service
END:VEVENT
END:VCALENDAR