BEGIN:VCALENDAR
VERSION:2.0
PRODID:-//Unity Church of Sun Lakes - ECPv6.15.17//NONSGML v1.0//EN
CALSCALE:GREGORIAN
METHOD:PUBLISH
X-WR-CALNAME:Unity Church of Sun Lakes
X-ORIGINAL-URL:https://unityofsunlakes.org
X-WR-CALDESC:Events for Unity Church of Sun Lakes
REFRESH-INTERVAL;VALUE=DURATION:PT1H
X-Robots-Tag:noindex
X-PUBLISHED-TTL:PT1H
BEGIN:VTIMEZONE
TZID:America/Phoenix
BEGIN:STANDARD
TZOFFSETFROM:-0700
TZOFFSETTO:-0700
TZNAME:MST
DTSTART:20240101T000000
END:STANDARD
END:VTIMEZONE
BEGIN:VEVENT
DTSTART;TZID=America/Phoenix:20250316T100000
DTEND;TZID=America/Phoenix:20250316T110000
DTSTAMP:20260421T104420
CREATED:20250227T020556Z
LAST-MODIFIED:20250227T020556Z
UID:1580-1742119200-1742122800@unityofsunlakes.org
SUMMARY:Sunday Service: Joyful Connections: Nurturing Relationships for Happiness
DESCRIPTION:Examine the role of relationships in fostering happiness. This talk will focus on building and maintaining meaningful connections that uplift and support personal joy. \nMessage with Rev. Jeanne MacLaughlin \nMusician: Cerise Patron
URL:https://unityofsunlakes.org/event/sunday-service-joyful-connections-nurturing-relationships-for-happiness/
LOCATION:Unity of Sun Lakes\, 25601 S. Sun Lakes Blvd.\, Sun Lakes\, 85248
CATEGORIES:Service
END:VEVENT
END:VCALENDAR