BEGIN:VCALENDAR
VERSION:2.0
PRODID:-//Unity Church of Sun Lakes - ECPv6.15.17//NONSGML v1.0//EN
CALSCALE:GREGORIAN
METHOD:PUBLISH
X-ORIGINAL-URL:https://unityofsunlakes.org
X-WR-CALDESC:Events for Unity Church of Sun Lakes
REFRESH-INTERVAL;VALUE=DURATION:PT1H
X-Robots-Tag:noindex
X-PUBLISHED-TTL:PT1H
BEGIN:VTIMEZONE
TZID:America/Phoenix
BEGIN:STANDARD
TZOFFSETFROM:-0700
TZOFFSETTO:-0700
TZNAME:MST
DTSTART:20240101T000000
END:STANDARD
END:VTIMEZONE
BEGIN:VEVENT
DTSTART;TZID=America/Phoenix:20250309T100000
DTEND;TZID=America/Phoenix:20250309T110000
DTSTAMP:20260421T110334
CREATED:20250227T020424Z
LAST-MODIFIED:20250227T020424Z
UID:1578-1741514400-1741518000@unityofsunlakes.org
SUMMARY:Sunday Service: Gratitude: The Gateway to Happiness
DESCRIPTION:Delve into the transformative power of gratitude in everyday life. Participants will discuss how adopting a gratitude practice can significantly enhance their overall sense of well-being and happiness. \nMessage: Rev. Jeanne MacLaughlin \nMusician: Barb Horton – The JaJa’s
URL:https://unityofsunlakes.org/event/sunday-service-gratitude-the-gateway-to-happiness/
LOCATION:Unity of Sun Lakes\, 25601 S. Sun Lakes Blvd.\, Sun Lakes\, 85248
CATEGORIES:Service
END:VEVENT
END:VCALENDAR