BEGIN:VCALENDAR
VERSION:2.0
PRODID:-//Unity Church of Sun Lakes - ECPv6.15.17//NONSGML v1.0//EN
CALSCALE:GREGORIAN
METHOD:PUBLISH
X-ORIGINAL-URL:https://unityofsunlakes.org
X-WR-CALDESC:Events for Unity Church of Sun Lakes
REFRESH-INTERVAL;VALUE=DURATION:PT1H
X-Robots-Tag:noindex
X-PUBLISHED-TTL:PT1H
BEGIN:VTIMEZONE
TZID:America/Phoenix
BEGIN:STANDARD
TZOFFSETFROM:-0700
TZOFFSETTO:-0700
TZNAME:MST
DTSTART:20240101T000000
END:STANDARD
END:VTIMEZONE
BEGIN:VEVENT
DTSTART;TZID=America/Phoenix:20250112T100000
DTEND;TZID=America/Phoenix:20250112T110000
DTSTAMP:20260422T085250
CREATED:20250103T180158Z
LAST-MODIFIED:20250108T163852Z
UID:1501-1736676000-1736679600@unityofsunlakes.org
SUMMARY:Sunday Service - The Nature of the Soul
DESCRIPTION:Speaker: Rev. Jeanne MacLaughlin \nMusic: Cerise Patron \nThe soul’s role is a dynamic interface\, mediating between inner spiritual truths and the worldly aspects of life. It guides the transformation of human experiences by drawing on the deeper wisdom of Divine Mind. We will explore these topics and the three elements of Soul as defined by Charles and Myrtle Fillmore and explained in modern language by Paul Hasselbeck. 
URL:https://unityofsunlakes.org/event/sunday-service-2/
LOCATION:Unity of Sun Lakes\, 25601 S. Sun Lakes Blvd.\, Sun Lakes\, 85248
CATEGORIES:Service
END:VEVENT
END:VCALENDAR