BEGIN:VCALENDAR
VERSION:2.0
PRODID:-//Unity Church of Sun Lakes - ECPv6.15.17//NONSGML v1.0//EN
CALSCALE:GREGORIAN
METHOD:PUBLISH
X-ORIGINAL-URL:https://unityofsunlakes.org
X-WR-CALDESC:Events for Unity Church of Sun Lakes
REFRESH-INTERVAL;VALUE=DURATION:PT1H
X-Robots-Tag:noindex
X-PUBLISHED-TTL:PT1H
BEGIN:VTIMEZONE
TZID:America/Phoenix
BEGIN:STANDARD
TZOFFSETFROM:-0700
TZOFFSETTO:-0700
TZNAME:MST
DTSTART:20230101T000000
END:STANDARD
END:VTIMEZONE
BEGIN:VEVENT
DTSTART;TZID=America/Phoenix:20241201T100000
DTEND;TZID=America/Phoenix:20241201T110000
DTSTAMP:20260422T213640
CREATED:20241129T190308Z
LAST-MODIFIED:20241129T190308Z
UID:1461-1733047200-1733050800@unityofsunlakes.org
SUMMARY:Sunday Service - Will You Come Home?
DESCRIPTION:With Rev. Jeanne MacLaughlin\, Music with Annie Moscow \nAs we prepare our hearts to re-experience the birth of the son of God Self within\, we will come home to our authentic self\, our center. Today\, you will be invited to come home to your heart in a profound way.
URL:https://unityofsunlakes.org/event/sunday-service-will-you-come-home/
LOCATION:Unity of Sun Lakes\, 25601 S. Sun Lakes Blvd.\, Sun Lakes\, 85248
CATEGORIES:Service
END:VEVENT
END:VCALENDAR