BEGIN:VCALENDAR
VERSION:2.0
PRODID:-//Unity Church of Sun Lakes - ECPv6.15.17//NONSGML v1.0//EN
CALSCALE:GREGORIAN
METHOD:PUBLISH
X-ORIGINAL-URL:https://unityofsunlakes.org
X-WR-CALDESC:Events for Unity Church of Sun Lakes
REFRESH-INTERVAL;VALUE=DURATION:PT1H
X-Robots-Tag:noindex
X-PUBLISHED-TTL:PT1H
BEGIN:VTIMEZONE
TZID:America/Phoenix
BEGIN:STANDARD
TZOFFSETFROM:-0700
TZOFFSETTO:-0700
TZNAME:MST
DTSTART:20230101T000000
END:STANDARD
END:VTIMEZONE
BEGIN:VEVENT
DTSTART;TZID=America/Phoenix:20241013T100000
DTEND;TZID=America/Phoenix:20241013T110000
DTSTAMP:20260423T091913
CREATED:20241001T201404Z
LAST-MODIFIED:20241001T202556Z
UID:1397-1728813600-1728817200@unityofsunlakes.org
SUMMARY:Sunday Service - Scripture and the Law of Attraction
DESCRIPTION:Guest speaker\, Don Ratliff will discuss the law of attraction. \nMusic by Barbara Horton \nIn Matthew 21:22 it says: “And all things\, whatsoever you shall ask in prayer\, believing\, you shall receive.” We’ll texplore how limiting beliefs can block us from fully harnessing the Law of Attraction to manifest abundance in our lives. This will set the stage for understanding how we can overcome these internal barriers and align with the principles of both scripture and the Law of Attraction.
URL:https://unityofsunlakes.org/event/sunday-service-on-the-law-of-attraction/
LOCATION:Unity of Sun Lakes\, 25601 S. Sun Lakes Blvd.\, Sun Lakes\, 85248
CATEGORIES:Service
END:VEVENT
END:VCALENDAR